BEGIN:VCALENDAR
VERSION:2.0
PRODID:-//Tribester Jewish Experiences - ECPv6.15.20//NONSGML v1.0//EN
CALSCALE:GREGORIAN
METHOD:PUBLISH
X-WR-CALNAME:Tribester Jewish Experiences
X-ORIGINAL-URL:https://www.tribester.com
X-WR-CALDESC:Events for Tribester Jewish Experiences
REFRESH-INTERVAL;VALUE=DURATION:PT1H
X-Robots-Tag:noindex
X-PUBLISHED-TTL:PT1H
BEGIN:VTIMEZONE
TZID:America/Los_Angeles
BEGIN:DAYLIGHT
TZOFFSETFROM:-0800
TZOFFSETTO:-0700
TZNAME:PDT
DTSTART:20250309T100000
END:DAYLIGHT
BEGIN:STANDARD
TZOFFSETFROM:-0700
TZOFFSETTO:-0800
TZNAME:PST
DTSTART:20251102T090000
END:STANDARD
BEGIN:DAYLIGHT
TZOFFSETFROM:-0800
TZOFFSETTO:-0700
TZNAME:PDT
DTSTART:20260308T100000
END:DAYLIGHT
BEGIN:STANDARD
TZOFFSETFROM:-0700
TZOFFSETTO:-0800
TZNAME:PST
DTSTART:20261101T090000
END:STANDARD
BEGIN:DAYLIGHT
TZOFFSETFROM:-0800
TZOFFSETTO:-0700
TZNAME:PDT
DTSTART:20270314T100000
END:DAYLIGHT
BEGIN:STANDARD
TZOFFSETFROM:-0700
TZOFFSETTO:-0800
TZNAME:PST
DTSTART:20271107T090000
END:STANDARD
END:VTIMEZONE
BEGIN:VTIMEZONE
TZID:America/New_York
BEGIN:DAYLIGHT
TZOFFSETFROM:-0500
TZOFFSETTO:-0400
TZNAME:EDT
DTSTART:20250309T070000
END:DAYLIGHT
BEGIN:STANDARD
TZOFFSETFROM:-0400
TZOFFSETTO:-0500
TZNAME:EST
DTSTART:20251102T060000
END:STANDARD
BEGIN:DAYLIGHT
TZOFFSETFROM:-0500
TZOFFSETTO:-0400
TZNAME:EDT
DTSTART:20260308T070000
END:DAYLIGHT
BEGIN:STANDARD
TZOFFSETFROM:-0400
TZOFFSETTO:-0500
TZNAME:EST
DTSTART:20261101T060000
END:STANDARD
BEGIN:DAYLIGHT
TZOFFSETFROM:-0500
TZOFFSETTO:-0400
TZNAME:EDT
DTSTART:20270314T070000
END:DAYLIGHT
BEGIN:STANDARD
TZOFFSETFROM:-0400
TZOFFSETTO:-0500
TZNAME:EST
DTSTART:20271107T060000
END:STANDARD
END:VTIMEZONE
BEGIN:VEVENT
DTSTART;TZID=America/Los_Angeles:20260519T190000
DTEND;TZID=America/Los_Angeles:20260519T190000
DTSTAMP:20260420T155803
CREATED:20260416T144810Z
LAST-MODIFIED:20260416T144810Z
UID:10026392-1779217200-1779217200@www.tribester.com
SUMMARY:Pre-Shavuot Floral Workshop
DESCRIPTION:Delve into the story of Ruth and uncover deeper meaning within the holiday of Shavuot. \nEnjoy a guided floral design experience and craft a beautiful arrangement to bring home. \nWine. Cheese. + Dairy Delights \nBy Michelle Selko of creative light design
URL:https://www.tribester.com/event/pre-shavuot-floral-workshop/
LOCATION:Village Synagogue(map)
CATEGORIES:Art,Meetup,Shavuot,Women
ATTACH;FMTTYPE=image/webp:https://www.tribester.com/wp-content/uploads/2026/04/Pre-Shavuot-Floral-Workshop.webp
ORGANIZER;CN="Village Synagogue":MAILTO:info@villagesynagogue.com
END:VEVENT
BEGIN:VEVENT
DTSTART;TZID=America/New_York:20260521T183000
DTEND;TZID=America/New_York:20260521T203000
DTSTAMP:20260420T155803
CREATED:20260411T232144Z
LAST-MODIFIED:20260411T232144Z
UID:10026204-1779388200-1779395400@www.tribester.com
SUMMARY:Shavuot: Bites & Bite-Sized Torah
DESCRIPTION:Join Rabbinic Intern Adina\, Rachel\, and Izzy for a night of delicious food and bite-sized Torah study at the Weitzman. We plan to serve a dairy-filled dinner in celebration of Shavuot. For our Torah study\, we ask that everyone chooses 1-2 verses (sentences) of Torah before the event that relate to their lives – whether it be their hobbies\, their values\, their job/school\, etc. During the program\, everyone will have a few minutes to teach their verse of Torah to small groups and explain how it relates to their life! If you don’t have time to prepare or don’t know where to begin to prep your verse\, we will have plenty available at the event that you can choose from. On Sefaria\, you can search by topic to find a verse that speaks to you!
URL:https://www.tribester.com/event/shavuot-bites-bite-sized-torah-2/
LOCATION:Weitzman Museum\, 5th & Market Streets\, Philadelphia\, PA 19106\, Philadelphia\, PA\, 19106\, US
CATEGORIES:Holiday,Shavuot
ATTACH;FMTTYPE=image/webp:https://www.tribester.com/wp-content/uploads/2026/04/Shavuot-1.webp
ORGANIZER;CN="Tribe 12":MAILTO:yo@tribe12.org
GEO:39.9506045;-75.1489042
X-APPLE-STRUCTURED-LOCATION;VALUE=URI;X-ADDRESS=Weitzman Museum 5th & Market Streets Philadelphia PA 19106 Philadelphia PA 19106 US;X-APPLE-RADIUS=500;X-TITLE=5th & Market Streets\, Philadelphia\, PA 19106:geo:-75.1489042,39.9506045
END:VEVENT
BEGIN:VEVENT
DTSTART;TZID=America/New_York:20260521T193000
DTEND;TZID=America/New_York:20260521T193000
DTSTAMP:20260420T155803
CREATED:20260415T232239Z
LAST-MODIFIED:20260415T232728Z
UID:10026363-1779391800-1779391800@www.tribester.com
SUMMARY:Shavuot Community Dinner
DESCRIPTION:Join The Downtown & Brickell Community for a delicious Rooftop Shavuot Chef’s Dinner as we prepare ourselves for the receiving of the 10 Commandments. \nThursday\, May 21st \nEvening Services: 7:30pmShavuot Community Dinner: 8:00pm \n$55 Before May 7th$60 Before May 14th$65 Standard Ticket \nat The Rok Family ShulChabad Downtown Jewish Center35 SE 9th StreetMiami\, FL 33131 \nFollowed by Torah & Tapas 11pm
URL:https://www.tribester.com/event/shavuot-community-dinner-2/
LOCATION:YJP Miami – The Rok Family Shul
CATEGORIES:Dinner,Holiday,Shavuot,Social
ATTACH;FMTTYPE=image/png:https://www.tribester.com/wp-content/uploads/2026/04/Shavuot-Dinner-4.webp
ORGANIZER;CN="YJP Miami":MAILTO:rabbi@Jewishdowntown.net
END:VEVENT
BEGIN:VEVENT
DTSTART;TZID=America/New_York:20260521T193000
DTEND;TZID=America/New_York:20260521T223000
DTSTAMP:20260420T155803
CREATED:20260327T131526Z
LAST-MODIFIED:20260327T131526Z
UID:10025658-1779391800-1779402600@www.tribester.com
SUMMARY:Sinai Slam: An Alternative Shavuot Experience
DESCRIPTION:During our innovative take on the holiday of Shavuot\, experience a night of dairy\, debate\, and personal discovery. Start the night with candid\, autobiographical stories from Sixth & I’ers exploring unexpected takes on Shavuot’s themes of anticipation\, revelation\, and conversion. Then\, eat your fill of cheesecake and ice cream and dive deep into Jewish text with a chevruta (learning partner). Coffee and lactaid provided. \n\n7:30 pm – Happy Hour\n8:00 pm – Sinai Slam Storytelling Event\n9:30 pm – Dessert and Text Study\, Led by Rabbi Aaron\n\nServices at Sixth & I \n\nSeating is general admission; first-come\, first-served. There are some partial view seats on the balcony level. Display screens supplement sightlines.\nClick here for directions to our historic building.\nFor details about accessible seating and entry\, click here.\nClick here to review our service policies\, security procedures\, and food and beverage policies.\nClick here for step-by-step instructions to transfer your ticket to someone else.
URL:https://www.tribester.com/event/sinai-slam-an-alternative-shavuot-experience-2/
LOCATION:Sixth & I\, 600 I St NW\, Washington\, DC 20001\, Washington\, 20001
CATEGORIES:Holiday,Shavuot
ATTACH;FMTTYPE=image/jpeg:https://www.tribester.com/wp-content/uploads/2026/03/event-image-569058.webp
ORGANIZER;CN="Sixth & I%3A Jewish Life and Social Events":MAILTO:aloerch@sixthandi.org
GEO:38.9006084;-77.0202375
X-APPLE-STRUCTURED-LOCATION;VALUE=URI;X-ADDRESS=Sixth & I 600 I St NW Washington DC 20001 Washington 20001;X-APPLE-RADIUS=500;X-TITLE=600 I St NW\, Washington\, DC 20001:geo:-77.0202375,38.9006084
END:VEVENT
BEGIN:VEVENT
DTSTART;TZID=America/New_York:20260521T230000
DTEND;TZID=America/New_York:20260521T230000
DTSTAMP:20260420T155803
CREATED:20260415T232244Z
LAST-MODIFIED:20260415T232805Z
UID:10026364-1779404400-1779404400@www.tribester.com
SUMMARY:Shavuot Torah & Tapas
DESCRIPTION:Join  YJP Miami for Shavuot Late Night Learning \nTorah Wine & TapasShavuot Learning \nThursday\, May 21stStarts 11pm – 1am \nSelection of Wines & Tapas \nNo Charge – RSVP Requested
URL:https://www.tribester.com/event/shavuot-torah-tapas/
LOCATION:YJP Miami – The Rok Family Shul
CATEGORIES:Holiday,Meetup,Shavuot,Social
ATTACH;FMTTYPE=image/jpeg:https://www.tribester.com/wp-content/uploads/2026/04/Shavuot-Midnight.webp
ORGANIZER;CN="YJP Miami":MAILTO:rabbi@Jewishdowntown.net
END:VEVENT
BEGIN:VEVENT
DTSTART;TZID=America/New_York:20260521T230000
DTEND;TZID=America/New_York:20260521T230000
DTSTAMP:20260420T155803
CREATED:20260420T192107Z
LAST-MODIFIED:20260420T192107Z
UID:10026544-1779404400-1779404400@www.tribester.com
SUMMARY:Night Shift: The Shavuot Show
DESCRIPTION:At Night Shift: The Shavuot Show\, we’ll be staying up late with live music\, immersive ritual\, radical text study\, sensational drag\, and more! Shavuot is the Jewish holiday of revelation\, often observed through late-night Torah study. This year\, The Neighborhood\, The New Shul\, Temple of the Stranger\, Beit Toratah\, Lab/Shul and friends invite you to come early and stay late for a mind-opening\, community-building\, heart-expanding experience of art\, culture\, and spirituality.
URL:https://www.tribester.com/event/night-shift-the-shavuot-show/
LOCATION:Crown Hill Theatre\, 750 Nostrand Ave\, Brooklyn\, NY 11216\, USA\, New York
CATEGORIES:Art,Arts & Entertainment,Holiday,Meetup,Performance,Shavuot,Social
ATTACH;FMTTYPE=image/png:https://www.tribester.com/wp-content/uploads/2026/04/dd3625_caf5816535e14e5a93676277b8d15084mv2.webp
ORGANIZER;CN="The Neighborhood%3A An Urban Center for Jewish Life":MAILTO:info@theneighborhoodbk.org
GEO:40.6730786;-73.9503876
X-APPLE-STRUCTURED-LOCATION;VALUE=URI;X-ADDRESS=Crown Hill Theatre 750 Nostrand Ave Brooklyn NY 11216 USA New York;X-APPLE-RADIUS=500;X-TITLE=750 Nostrand Ave\, Brooklyn\, NY 11216\, USA:geo:-73.9503876,40.6730786
END:VEVENT
BEGIN:VEVENT
DTSTART;TZID=America/New_York:20260522T193000
DTEND;TZID=America/New_York:20260522T193000
DTSTAMP:20260420T155803
CREATED:20260415T232249Z
LAST-MODIFIED:20260415T232751Z
UID:10026365-1779478200-1779478200@www.tribester.com
SUMMARY:Shavuot Artisan BBQ & The 10 Commandments
DESCRIPTION:Join YJP Miami For Rooftop Shavuot Artisan BBQ & The 10 Commandments \nFriday\, May 22nd \nCove Rooftop at Rok Family ShulYJP Miami Headquarters35 SE 9th StreetMiami\, FL 33131 \n7:00pm – The 10 Commandments (PROMPTLY)7:30pm – Shavuot Evening Services8:00pm – Artisan BBQ & Craft Cocktail \nDinner is$45 Until May 7th$50 Until May 14th$55 Until After
URL:https://www.tribester.com/event/shavuot-artisan-bbq-the-10-commandments/
LOCATION:YJP Miami – The Rok Family Shul
CATEGORIES:Holiday,Meetup,Shavuot,Social
ATTACH;FMTTYPE=image/png:https://www.tribester.com/wp-content/uploads/2026/04/Shavuot-2024-6.webp
ORGANIZER;CN="YJP Miami":MAILTO:rabbi@Jewishdowntown.net
END:VEVENT
END:VCALENDAR