BEGIN:VCALENDAR
VERSION:2.0
PRODID:-//Tribester Jewish Experiences - ECPv6.15.20//NONSGML v1.0//EN
CALSCALE:GREGORIAN
METHOD:PUBLISH
X-ORIGINAL-URL:https://www.tribester.com
X-WR-CALDESC:Events for Tribester Jewish Experiences
REFRESH-INTERVAL;VALUE=DURATION:PT1H
X-Robots-Tag:noindex
X-PUBLISHED-TTL:PT1H
BEGIN:VTIMEZONE
TZID:America/New_York
BEGIN:DAYLIGHT
TZOFFSETFROM:-0500
TZOFFSETTO:-0400
TZNAME:EDT
DTSTART:20230312T070000
END:DAYLIGHT
BEGIN:STANDARD
TZOFFSETFROM:-0400
TZOFFSETTO:-0500
TZNAME:EST
DTSTART:20231105T060000
END:STANDARD
BEGIN:DAYLIGHT
TZOFFSETFROM:-0500
TZOFFSETTO:-0400
TZNAME:EDT
DTSTART:20240310T070000
END:DAYLIGHT
BEGIN:STANDARD
TZOFFSETFROM:-0400
TZOFFSETTO:-0500
TZNAME:EST
DTSTART:20241103T060000
END:STANDARD
BEGIN:DAYLIGHT
TZOFFSETFROM:-0500
TZOFFSETTO:-0400
TZNAME:EDT
DTSTART:20250309T070000
END:DAYLIGHT
BEGIN:STANDARD
TZOFFSETFROM:-0400
TZOFFSETTO:-0500
TZNAME:EST
DTSTART:20251102T060000
END:STANDARD
END:VTIMEZONE
BEGIN:VTIMEZONE
TZID:UTC
BEGIN:STANDARD
TZOFFSETFROM:+0000
TZOFFSETTO:+0000
TZNAME:UTC
DTSTART:20230101T000000
END:STANDARD
END:VTIMEZONE
BEGIN:VTIMEZONE
TZID:America/Los_Angeles
BEGIN:DAYLIGHT
TZOFFSETFROM:-0800
TZOFFSETTO:-0700
TZNAME:PDT
DTSTART:20230312T100000
END:DAYLIGHT
BEGIN:STANDARD
TZOFFSETFROM:-0700
TZOFFSETTO:-0800
TZNAME:PST
DTSTART:20231105T090000
END:STANDARD
BEGIN:DAYLIGHT
TZOFFSETFROM:-0800
TZOFFSETTO:-0700
TZNAME:PDT
DTSTART:20240310T100000
END:DAYLIGHT
BEGIN:STANDARD
TZOFFSETFROM:-0700
TZOFFSETTO:-0800
TZNAME:PST
DTSTART:20241103T090000
END:STANDARD
BEGIN:DAYLIGHT
TZOFFSETFROM:-0800
TZOFFSETTO:-0700
TZNAME:PDT
DTSTART:20250309T100000
END:DAYLIGHT
BEGIN:STANDARD
TZOFFSETFROM:-0700
TZOFFSETTO:-0800
TZNAME:PST
DTSTART:20251102T090000
END:STANDARD
END:VTIMEZONE
BEGIN:VEVENT
DTSTART;TZID=America/New_York:20240611T190000
DTEND;TZID=America/New_York:20240611T220000
DTSTAMP:20260420T215557
CREATED:20240527T102856Z
LAST-MODIFIED:20240622T165654Z
UID:10013215-1718132400-1718143200@www.tribester.com
SUMMARY:Shavuot–WJOA goes to JCC
DESCRIPTION:Come together with people from across the spectrum of Jewish Life for a free\, revelatory night of study\, film\, music\, dance\, conversation\, and more in celebration of Shavuot. Come for the revelation\, stay for the cheesecake! No registration necessary. \nIn 2024\, The Tikkun Leil Shavuot will take place in person overnight\, Tue\, Jun 11–Wed\, Jun 12\, 9 pm–5 am. \nHighlights include: \nSessions featuring Grammy\, Oscar\, and Tony award-winning lyricist/composer Benj Pasek; Tony-nominated actor Steven Skybell; best-selling author Dan Senor; and more\nRabbi Joanna Samuels in conversation with Rabbi David Wolpe\nAn all-night track with World Zionist Organization titled Jewish Peoplehood in Times of Crisis\, including sessions on American Jews + Israel\, feminism post-October 7\, and more\nPublic Safety + Antisemitism Town Hall with UWS city council member Gale Brewer + other elected officials\, moderated by Forward editor-in-chief Jodi Rudoren\nCulinary experiences + wine tasting\nStand-up comedy sessions from The Bible Players and Liz Glazer\nReport from the Field: Jewish Life on Campus from Hillel Rabbis\, moderated by Abigail Pogrebin\nBarbenheimer concert with MusicTalks\nWhy the Jews: The Reason for Antisemitism\, the Most Accurate Predictor of Human Evil with Rabbi Joseph Telushkin\nSilent disco\n…and so much more!
URL:https://www.tribester.com/event/shavuot-wjoa-goes-to-jcc/
LOCATION:Marlene Meyerson JCC Manhattan\, 334 Amsterdam Ave\, New York\, NY\, 10023\, US
CATEGORIES:Arts & Entertainment,Education,Film,Holiday,Learning & Culture,Live Music,Shavuot
ATTACH;FMTTYPE=image/jpeg:https://www.tribester.com/wp-content/uploads/2024/05/THE-PAUL-FEIG-Z-L-TIKKUN-LEIL-SHAVUOT-2024.jpg
ORGANIZER;CN="The Wandering Jews of Astoria":MAILTO:wanderingjewsofastoria@gmail.com
GEO:40.7811304;-73.9802022
X-APPLE-STRUCTURED-LOCATION;VALUE=URI;X-ADDRESS=Marlene Meyerson JCC Manhattan 334 Amsterdam Ave New York NY 10023 US;X-APPLE-RADIUS=500;X-TITLE=334 Amsterdam Ave:geo:-73.9802022,40.7811304
END:VEVENT
BEGIN:VEVENT
DTSTART;TZID=UTC:20240611T190000
DTEND;TZID=UTC:20240611T210000
DTSTAMP:20260420T215557
CREATED:20240608T134549Z
LAST-MODIFIED:20240622T165625Z
UID:10013459-1718132400-1718139600@www.tribester.com
SUMMARY:Shavuot Trivia Night
DESCRIPTION:Get ready to celebrate Torah in style at our Shavuot Trivia Extravaganza! Join us for an evening packed with fun as we honor the harvest festival with laughter\, learning\, and delicious dairy treats. Challenge your Jewish knowledge with trivia questions that will have you scratching your head and laughing with friends. It’s an event you won’t want to miss – mark your calendar and come join the fun! Dairy (and non-dairy) snacks will be served\, along with a craft beer and wine bar \nBring your own trivia team of 4-5 people\, or come ready to play with a team of new friends!
URL:https://www.tribester.com/event/shavuot-trivia-night/
LOCATION:Temple Beth Shalom\, 4144 Chase Avenue\, Miami Beach\, Florida\, 33140\, United States
CATEGORIES:Holiday,Shavuot,Social,Trivia
ATTACH;FMTTYPE=image/jpeg:https://www.tribester.com/wp-content/uploads/2024/06/Shavuot-Torah-Trivia-and-Treats.jpg
ORGANIZER;CN="The Tribe":MAILTO:info@thetribe.org
GEO:25.8145238;-80.1319108
X-APPLE-STRUCTURED-LOCATION;VALUE=URI;X-ADDRESS=Temple Beth Shalom 4144 Chase Avenue Miami Beach Florida 33140 United States;X-APPLE-RADIUS=500;X-TITLE=4144 Chase Avenue:geo:-80.1319108,25.8145238
END:VEVENT
BEGIN:VEVENT
DTSTART;TZID=America/New_York:20240611T000000
DTEND;TZID=America/New_York:20240613T235959
DTSTAMP:20260420T215557
CREATED:20240527T101719Z
LAST-MODIFIED:20240622T165654Z
UID:10013216-1718064000-1718323199@www.tribester.com
SUMMARY:Shavuot 2024
DESCRIPTION:Shavuot\nJune 11 – June 13\nCandle Lighting Yom Tov after 7:55 pm\nDairy Meal 9:30 pm\nKspace Talks follow by Torah learning all night long 12 am\nLunch 3 pm\nTen Commandments 6 pm\nCandle lighting afer 8:52 pm\nDinner 9:30 pm\nMorning service 11:00 am\nLunch 3 pm\nRequire reservation kspace.org/shavuot\nSuggested donation.
URL:https://www.tribester.com/event/shavuot-2024/
LOCATION:Kspace Miami\, 3575 Northeast 207th Street\, Aventura\, Florida\, 33180\, United States
CATEGORIES:Food & Drink Experience,Holiday,Shavuot,Social
ATTACH;FMTTYPE=image/webp:https://www.tribester.com/wp-content/uploads/2024/05/Shavuot-2024.webp
ORGANIZER;CN="Kspace Mia":MAILTO:rabbi@kspace.org
GEO:25.9688616;-80.1302533
X-APPLE-STRUCTURED-LOCATION;VALUE=URI;X-ADDRESS=Kspace Miami 3575 Northeast 207th Street Aventura Florida 33180 United States;X-APPLE-RADIUS=500;X-TITLE=3575 Northeast 207th Street:geo:-80.1302533,25.9688616
END:VEVENT
BEGIN:VEVENT
DTSTART;TZID=America/Los_Angeles:20240606T210000
DTEND;TZID=America/Los_Angeles:20240606T230000
DTSTAMP:20260420T215557
CREATED:20240527T100752Z
LAST-MODIFIED:20240622T165655Z
UID:10013225-1717707600-1717714800@www.tribester.com
SUMMARY:Career Up Now: Champagne & Cheesecake Networking Event
DESCRIPTION:Let’s celebrate Shavuot with a twist! ????  \nJoin us for a unique networking celebration where we’ll blend the joyous spirit of the holiday with professional connections. Engage in meaningful conversations\, share insights\, and forge new connections over champagne and cheesecake! Whether you’re a seasoned professional or just starting out\, this event is perfect for expanding your network within the community. \nDon’t miss this opportunity to celebrate\, connect\, and grow together!\nRSVP now to save your spot. \nEvent timing: Thursday\, June 6th at 6:00 PM – 8:00 PM\nEvent location: West Los Angeles\, address provided upon confirmed RSVP
URL:https://www.tribester.com/event/career-up-now-champagne-cheesecake-networking-event/
LOCATION:TBD
CATEGORIES:Business Networking,Holiday,Professional,Shavuot
ATTACH;FMTTYPE=image/jpeg:https://www.tribester.com/wp-content/uploads/2024/05/Career-Up-Now-Champagne-Cheesecake-Networking-Event.jpg
ORGANIZER;CN="Career Up Now":MAILTO:bradley@careerupnow.org
END:VEVENT
BEGIN:VEVENT
DTSTART;TZID=America/New_York:20240606T190000
DTEND;TZID=America/New_York:20240606T210000
DTSTAMP:20260420T215557
CREATED:20240605T141227Z
LAST-MODIFIED:20240622T165640Z
UID:10013339-1717700400-1717707600@www.tribester.com
SUMMARY:Great Big (Cheesy!) Babka Bake
DESCRIPTION:Shavuot Is Coming! Time to Make All the Dairy Delights\nWe’re getting ready for the holiday of Shavuot by baking up a dairy dream!\nJoin Shani Frankel to make her to-die-for chocolate babka (with a cheesy twist!) and share some inspiration for the holiday of Shavuot.\nWhen/Where: Thursday\, June 6th\, 7 pm\, at the Aish Center\nRegistration is required.\nhttps://aishdcevents.wixsite.com/…/great-big-cheesy…\nhttps://aish.com/shavuot-is-the-holiday-of-cheesecake…/\nhashtag#shavuot hashtag#Shavuos hashtag#jewish hashtag#Torah hashtag#cheesecake hashtag#icecream hashtag#blintzes hashtag#sefirathaomer
URL:https://www.tribester.com/event/great-big-cheesy-babka-bake/
LOCATION:Aish Center of Greater Washington\, 11418 Old Georgetown Road\, Rockville\, MD\, 20852\, United States
CATEGORIES:Cooking,Holiday,Learning & Culture,Shavuot
ATTACH;FMTTYPE=image/webp:https://www.tribester.com/wp-content/uploads/2024/06/Great-Big-Cheesy-Babka-Bake.webp
ORGANIZER;CN="Aish Center of Greater Washington":MAILTO:info@aishdc.org
GEO:39.0443229;-77.1211726
X-APPLE-STRUCTURED-LOCATION;VALUE=URI;X-ADDRESS=Aish Center of Greater Washington 11418 Old Georgetown Road Rockville MD 20852 United States;X-APPLE-RADIUS=500;X-TITLE=11418 Old Georgetown Road:geo:-77.1211726,39.0443229
END:VEVENT
END:VCALENDAR