BEGIN:VCALENDAR
VERSION:2.0
PRODID:-//Tribester Jewish Experiences - ECPv6.15.20//NONSGML v1.0//EN
CALSCALE:GREGORIAN
METHOD:PUBLISH
X-WR-CALNAME:Tribester Jewish Experiences
X-ORIGINAL-URL:https://www.tribester.com
X-WR-CALDESC:Events for Tribester Jewish Experiences
REFRESH-INTERVAL;VALUE=DURATION:PT1H
X-Robots-Tag:noindex
X-PUBLISHED-TTL:PT1H
BEGIN:VTIMEZONE
TZID:America/Los_Angeles
BEGIN:DAYLIGHT
TZOFFSETFROM:-0800
TZOFFSETTO:-0700
TZNAME:PDT
DTSTART:20250309T100000
END:DAYLIGHT
BEGIN:STANDARD
TZOFFSETFROM:-0700
TZOFFSETTO:-0800
TZNAME:PST
DTSTART:20251102T090000
END:STANDARD
BEGIN:DAYLIGHT
TZOFFSETFROM:-0800
TZOFFSETTO:-0700
TZNAME:PDT
DTSTART:20260308T100000
END:DAYLIGHT
BEGIN:STANDARD
TZOFFSETFROM:-0700
TZOFFSETTO:-0800
TZNAME:PST
DTSTART:20261101T090000
END:STANDARD
BEGIN:DAYLIGHT
TZOFFSETFROM:-0800
TZOFFSETTO:-0700
TZNAME:PDT
DTSTART:20270314T100000
END:DAYLIGHT
BEGIN:STANDARD
TZOFFSETFROM:-0700
TZOFFSETTO:-0800
TZNAME:PST
DTSTART:20271107T090000
END:STANDARD
END:VTIMEZONE
BEGIN:VTIMEZONE
TZID:America/New_York
BEGIN:DAYLIGHT
TZOFFSETFROM:-0500
TZOFFSETTO:-0400
TZNAME:EDT
DTSTART:20250309T070000
END:DAYLIGHT
BEGIN:STANDARD
TZOFFSETFROM:-0400
TZOFFSETTO:-0500
TZNAME:EST
DTSTART:20251102T060000
END:STANDARD
BEGIN:DAYLIGHT
TZOFFSETFROM:-0500
TZOFFSETTO:-0400
TZNAME:EDT
DTSTART:20260308T070000
END:DAYLIGHT
BEGIN:STANDARD
TZOFFSETFROM:-0400
TZOFFSETTO:-0500
TZNAME:EST
DTSTART:20261101T060000
END:STANDARD
BEGIN:DAYLIGHT
TZOFFSETFROM:-0500
TZOFFSETTO:-0400
TZNAME:EDT
DTSTART:20270314T070000
END:DAYLIGHT
BEGIN:STANDARD
TZOFFSETFROM:-0400
TZOFFSETTO:-0500
TZNAME:EST
DTSTART:20271107T060000
END:STANDARD
END:VTIMEZONE
BEGIN:VEVENT
DTSTART;TZID=America/Los_Angeles:20260426T160000
DTEND;TZID=America/Los_Angeles:20260426T160000
DTSTAMP:20260424T123838
CREATED:20260422T110126Z
LAST-MODIFIED:20260422T110415Z
UID:10026717-1777219200-1777219200@www.tribester.com
SUMMARY:Celebrate Israel Yom HaAtzmaut Music Festival
DESCRIPTION:Imagine an afternoon where the energy of Tel Aviv meets San Diego sunshine\, where generations dance to the same beat\, and where music\, food\, and culture come alive for everyone. Get ready for a vibrant celebration of Israel’s 78th Independence Day! Enjoy live Israeli music that moves you\, local artists adding their own flair\, and an atmosphere where friends\, old and new\, gather over shared plates and shared songs. \nTaste the flavors of Israel and let them tell their story. Dive into hands-on cultural experiences for all ages\, from Israeli dancing and music to interactive activities that spark curiosity and fun. This is a celebration for everyone\, a day where families\, friends\, and neighbors connect\, celebrate heritage\, and soak in the energy\, rhythm\, and joy of Israel. \nJewish Federation of San Diego\, the Lawrence Family Jewish Community Center\, and Jewish Community Foundation invite you to mark your calendars\, bring your curiosity\, and join us for an unforgettable day of music\, culture\, and connection. Celebrate\, dance\, taste\, and create memories that will last a lifetime. \nThis program is proudly supported by the Israel Engagement Fund: A JCC Association of North America Program Accelerator and the Ministry of Diaspora Affairs.
URL:https://www.tribester.com/event/celebrate-israel-yom-haatzmaut-music-festival/
LOCATION:TBD
CATEGORIES:Festival,Holiday,Israel Independence,Live Music,Social
ATTACH;FMTTYPE=image/webp:https://www.tribester.com/wp-content/uploads/2026/04/CelebrateIsrael_WebBanner_V3.webp
ORGANIZER;CN="Jewish Federation of San Diego":MAILTO:info@jewishinsandiego.org
END:VEVENT
BEGIN:VEVENT
DTSTART;TZID=America/New_York:20260509T150000
DTEND;TZID=America/New_York:20260509T180000
DTSTAMP:20260424T123838
CREATED:20260424T144911Z
LAST-MODIFIED:20260424T152616Z
UID:10026899-1778338800-1778349600@www.tribester.com
SUMMARY:Sephardic Sounds at BKCM Open Stages
DESCRIPTION:The Neighborhood returns to Brooklyn Conservatory of Music’s annual Open Stages festival with another Jewish music stage\, this time featuring the sounds of the Sephardic world\, tracing sonic roots to North Africa and the Middle East. Our three acts\, Desert Soul\, Habbina Habbina\, and Chanan Ben Simon and Guy Barash will have you dancing in the streets. \nOpen Stages is an annual outdoor music festival creating concert stages across the Park Slope neighborhood. Come for the Sephardic Sounds and stay for the 15+ stages of free music!
URL:https://www.tribester.com/event/sephardic-sounds-at-bkcm-open-stages/
LOCATION:GreenSpace @ President Street\, 222 5th Ave\, Brooklyn\, NY\, 11215\, United States
CATEGORIES:Arts & Entertainment,Festival,Live Music,Social
ATTACH;FMTTYPE=image/webp:https://www.tribester.com/wp-content/uploads/2026/04/SS_Square-1.webp
ORGANIZER;CN="The Neighborhood%3A An Urban Center for Jewish Life":MAILTO:info@theneighborhoodbk.org
END:VEVENT
BEGIN:VEVENT
DTSTART;TZID=America/New_York:20260517T120000
DTEND;TZID=America/New_York:20260517T180000
DTSTAMP:20260424T123838
CREATED:20260422T003908Z
LAST-MODIFIED:20260422T003908Z
UID:10026709-1779019200-1779040800@www.tribester.com
SUMMARY:Greek Jewish Festival
DESCRIPTION:Join the Greek Jewish Festival as we celebrate the unique Romaniote and Sephardic heritage of the Jews of Greece. Experience a feast for the senses including authentic kosher Greek foods and homemade Greek pastries\, traditional dance performances with live Greek and Sephardic music\, an outdoor marketplace full of vendors\, arts and educational activities for kids\, and much more!
URL:https://www.tribester.com/event/greek-jewish-festival-2/
LOCATION:Kehila Kedosha Janina Synagogue and Museum\, Broome Street 280\, New York\, NY\, 10002\, United States
CATEGORIES:Festival,Social
ATTACH;FMTTYPE=image/avif:https://www.tribester.com/wp-content/uploads/2026/04/Greek-Jewish-Festival.avif
ORGANIZER;CN="Kehila Kedosha Janina Synagogue and Museum":MAILTO:info@kkjsm.org
GEO:40.7185799;-73.9911795
X-APPLE-STRUCTURED-LOCATION;VALUE=URI;X-ADDRESS=Kehila Kedosha Janina Synagogue and Museum Broome Street 280 New York NY 10002 United States;X-APPLE-RADIUS=500;X-TITLE=Broome Street 280:geo:-73.9911795,40.7185799
END:VEVENT
END:VCALENDAR