BEGIN:VCALENDAR
VERSION:2.0
PRODID:-//Tribester Jewish Experiences - ECPv6.15.20//NONSGML v1.0//EN
CALSCALE:GREGORIAN
METHOD:PUBLISH
X-WR-CALNAME:Tribester Jewish Experiences
X-ORIGINAL-URL:https://www.tribester.com
X-WR-CALDESC:Events for Tribester Jewish Experiences
REFRESH-INTERVAL;VALUE=DURATION:PT1H
X-Robots-Tag:noindex
X-PUBLISHED-TTL:PT1H
BEGIN:VTIMEZONE
TZID:America/New_York
BEGIN:DAYLIGHT
TZOFFSETFROM:-0500
TZOFFSETTO:-0400
TZNAME:EDT
DTSTART:20230312T070000
END:DAYLIGHT
BEGIN:STANDARD
TZOFFSETFROM:-0400
TZOFFSETTO:-0500
TZNAME:EST
DTSTART:20231105T060000
END:STANDARD
BEGIN:DAYLIGHT
TZOFFSETFROM:-0500
TZOFFSETTO:-0400
TZNAME:EDT
DTSTART:20240310T070000
END:DAYLIGHT
BEGIN:STANDARD
TZOFFSETFROM:-0400
TZOFFSETTO:-0500
TZNAME:EST
DTSTART:20241103T060000
END:STANDARD
BEGIN:DAYLIGHT
TZOFFSETFROM:-0500
TZOFFSETTO:-0400
TZNAME:EDT
DTSTART:20250309T070000
END:DAYLIGHT
BEGIN:STANDARD
TZOFFSETFROM:-0400
TZOFFSETTO:-0500
TZNAME:EST
DTSTART:20251102T060000
END:STANDARD
END:VTIMEZONE
BEGIN:VTIMEZONE
TZID:America/Los_Angeles
BEGIN:DAYLIGHT
TZOFFSETFROM:-0800
TZOFFSETTO:-0700
TZNAME:PDT
DTSTART:20230312T100000
END:DAYLIGHT
BEGIN:STANDARD
TZOFFSETFROM:-0700
TZOFFSETTO:-0800
TZNAME:PST
DTSTART:20231105T090000
END:STANDARD
BEGIN:DAYLIGHT
TZOFFSETFROM:-0800
TZOFFSETTO:-0700
TZNAME:PDT
DTSTART:20240310T100000
END:DAYLIGHT
BEGIN:STANDARD
TZOFFSETFROM:-0700
TZOFFSETTO:-0800
TZNAME:PST
DTSTART:20241103T090000
END:STANDARD
BEGIN:DAYLIGHT
TZOFFSETFROM:-0800
TZOFFSETTO:-0700
TZNAME:PDT
DTSTART:20250309T100000
END:DAYLIGHT
BEGIN:STANDARD
TZOFFSETFROM:-0700
TZOFFSETTO:-0800
TZNAME:PST
DTSTART:20251102T090000
END:STANDARD
END:VTIMEZONE
BEGIN:VTIMEZONE
TZID:Africa/Abidjan
BEGIN:STANDARD
TZOFFSETFROM:+0000
TZOFFSETTO:+0000
TZNAME:GMT
DTSTART:20230101T000000
END:STANDARD
END:VTIMEZONE
BEGIN:VEVENT
DTSTART;TZID=America/New_York:20241229T193000
DTEND;TZID=America/New_York:20241229T210000
DTSTAMP:20260424T154717
CREATED:20241226T133426Z
LAST-MODIFIED:20241226T133426Z
UID:10015991-1735500600-1735506000@www.tribester.com
SUMMARY:Chanukah Festival
DESCRIPTION:✨ Fill your Chanukah with light! ✨\n???????????????????????????????? ????????????????????????????????: ???????????????????????????? ???????????????????????????????? ???????? ???????????????? ????????????????\n250 Hamilton Ave\, Palo Alto\, CA 94301\n???? Sunday\, December 10\n4:30 – 6:00 PM\n???? www.chabadpaloalto.com/chanukah\n???? ???? Fire truck gelt drop\n????????️ Caricature artist\n???? ???? Chanukah crafts\n????‍♂️ ????Professional balloon twister\n???? ???? Cocoa bar\, latkes & donuts
URL:https://www.tribester.com/event/chanukah-festival/
LOCATION:Palo Alto City Hall King Plaza\, 250 Hamilton Avenue\, Palo Alto\, CA\, 94301\, United States
CATEGORIES:Festival,Hanukkah,Holiday,Social
ATTACH;FMTTYPE=image/jpeg:https://www.tribester.com/wp-content/uploads/2024/12/Chanukah-Festival.jpg
ORGANIZER;CN="Chabad Palo Alto":MAILTO:devorah@chabadpaloalto.com
GEO:37.4446611;-122.160348
X-APPLE-STRUCTURED-LOCATION;VALUE=URI;X-ADDRESS=Palo Alto City Hall King Plaza 250 Hamilton Avenue Palo Alto CA 94301 United States;X-APPLE-RADIUS=500;X-TITLE=250 Hamilton Avenue:geo:-122.160348,37.4446611
END:VEVENT
BEGIN:VEVENT
DTSTART;TZID=America/New_York:20241228T210000
DTEND;TZID=America/New_York:20241229T000000
DTSTAMP:20260424T154717
CREATED:20241226T112145Z
LAST-MODIFIED:20241226T112145Z
UID:10015989-1735419600-1735430400@www.tribester.com
SUMMARY:Festival Of Light 2024 :: Hanukkah Bash & Concert
DESCRIPTION:It’s time to bring a little more light into the world… \nJoin 100’s of Young Professionals & Grad Students for the largest\, most sensational\, & inspirational rocking Hanukkah Fest in Philadelphia! \nHanukkah Bash\, Concert\, & Night of Reveling @ The new Chevra venue. \nCo-Sponsored by: The Chevra\, Jewish Federation Of Greater Philadelphia’s NextGen\, Hillel’s Jewish Graduate Student Network\, Meor Philadelphia\, Moishe House RSJ\, Olami\, & Old City Theatre \n———- \n???? ???? ???? ???? ???? ???? ???? \n– Live Music \n– L’Chaims / Hanukkah Cocktails \n– Sufganiyot / Hanukkah Doughnuts \n– Chocolate / Hanukkah Gelt \n– Menorah Lighting \n– Ugly Hanukkah Sweater Contest \n———- \nLive Music Featuring:\nHebronica W/ DJ Elijha \nWith Chevra Philly’s Rock House Band: \nAryeh Shalom\nJon Erlbaum\n& The Mystic Mayhem \n———–\nSaturday Night December 28\n9:00 PM – 1:00 AM \nThe Chevra Social Club\n2002 Ludlow St. Philadelphia\, Pa. 19103 \n———— \n$10 Prepaid\n$20 Door \n20’s & 30’s (21+)\nSingles & Couples\nGrads & Professionals \nDue to the high volume attendance please arrive early for security check. \n———- \nWishing everyone a victorious Hanukkah!
URL:https://www.tribester.com/event/festival-of-light-2024-hanukkah-bash-concert/
LOCATION:The Chevra\, 2002 Ludlow Street\, Philadelphia\, PA\, 19103\, United States
CATEGORIES:Festival,Hanukkah,Holiday,Social
ATTACH;FMTTYPE=image/jpeg:https://www.tribester.com/wp-content/uploads/2024/12/Festival-Of-Light-2024-Hanukkah-Bash-Concert.jpg
ORGANIZER;CN="The Chevra":MAILTO:info@chevra.net
GEO:39.9528579;-75.1737256
X-APPLE-STRUCTURED-LOCATION;VALUE=URI;X-ADDRESS=The Chevra 2002 Ludlow Street Philadelphia PA 19103 United States;X-APPLE-RADIUS=500;X-TITLE=2002 Ludlow Street:geo:-75.1737256,39.9528579
END:VEVENT
BEGIN:VEVENT
DTSTART;TZID=America/New_York:20241020T193000
DTEND;TZID=America/New_York:20241020T230000
DTSTAMP:20260424T154717
CREATED:20241017T050925Z
LAST-MODIFIED:20241017T050925Z
UID:10015268-1729452600-1729465200@www.tribester.com
SUMMARY:Sukkot Street Festival Celebration
DESCRIPTION:Join us for a fun Sukkot Street Festival!\n:|: Free Admission :|:\nStreet will be closed off for the event\n– LIVE Music\n– Children Activities\n– Fire Juggler\n– Barbeque\n– Soups and Desserts\n– Moon Bounce\n– Rock Climbing\n– Balloon Art\n– Lulav and Etrog\n– Sukkah on Site\nTimeline:\n4:30PM – Food and Children’s Activities\n6:30PM – Fire Juggling Show\n6:45PM – Live Music & Dancing\nHope to see you all there!\nThis event is brought to you by:\nAdath Israel\nAnshei Sefard\nBais Menachem Yeshiva Day School\nChabad of Cole Valley\nChabad of Noe Valley\nChabad of SF – Soma Shul and Pacific Heights\nChabad of the Neighborhood\nChabad of the Sunset & Student Center\nChevra Tehilim\nMagain David\nRTC – Chabad\nRussian Speaking Jewish Community of SF Bay Area\nSchneerson Center\nTorat Emet\nIn addition to the above sponsors we want to thank our event supporters:\n@Hebrew Free Loan\nKibby Care\nBasi Lgani Care\nSinai Memorial Chapel
URL:https://www.tribester.com/event/sukkot-street-festival-celebration/
LOCATION:10th Ave and Geary Blvd\, San Francisco\, CA\, 94118\, United States
CATEGORIES:Festival,Holiday,Social,Sukkot
ATTACH;FMTTYPE=image/jpeg:https://www.tribester.com/wp-content/uploads/2024/10/Sukkot-Street-Festival-Celebration.jpg
GEO:37.7810672;-122.4651878
END:VEVENT
BEGIN:VEVENT
DTSTART;TZID=America/New_York:20241020T193000
DTEND;TZID=America/New_York:20241020T223000
DTSTAMP:20260424T154717
CREATED:20241017T050445Z
LAST-MODIFIED:20241017T050445Z
UID:10015269-1729452600-1729463400@www.tribester.com
SUMMARY:Sukkot Festival
DESCRIPTION:Sukkot is the happiest time of the year\, a time of dancing\, joy and getting together!\nDon´t miss out this fun Sukkot Festival we’ve prepared for you all!\nBounce houses\, Intergalactic space station Sukkahs\, Pizza and much more!\nRSVP ???????? www.chabadpaloalto.com/Festival\nSunday\, October 20 @ 4:30 PM\nChabad Palo Alto
URL:https://www.tribester.com/event/sukkot-festival/
LOCATION:Chabad Palo Alto\, 3070 Louis Road\, Palo Alto\, CA\, 94303\, United States
CATEGORIES:Festival,Holiday,Social,Sukkot
ATTACH;FMTTYPE=image/jpeg:https://www.tribester.com/wp-content/uploads/2024/10/Sukkot-Festival.jpg
ORGANIZER;CN="Chabad Palo Alto":MAILTO:devorah@chabadpaloalto.com
GEO:37.4351447;-122.1201112
X-APPLE-STRUCTURED-LOCATION;VALUE=URI;X-ADDRESS=Chabad Palo Alto 3070 Louis Road Palo Alto CA 94303 United States;X-APPLE-RADIUS=500;X-TITLE=3070 Louis Road:geo:-122.1201112,37.4351447
END:VEVENT
BEGIN:VEVENT
DTSTART;TZID=America/New_York:20240926T180000
DTEND;TZID=America/New_York:20240926T210000
DTSTAMP:20260424T154717
CREATED:20240816T114144Z
LAST-MODIFIED:20240816T114144Z
UID:10014271-1727373600-1727384400@www.tribester.com
SUMMARY:Tribe 12 Goes to Fringe Festival: Singles Edition
DESCRIPTION:Fringe is the quintessentially Philly fall festival of performance\, art and expression and we’re proud that several of our Tribe 12 Fellowship alumni are putting on shows! \nWe invite Tribe 12’s singles to join us at Love Lab\, a show which is billed as “an immersive\, interactive dating social experiment for the sake of the future’s future!” Love Lab is directed and performed by 2023 Tribe 12 Fellow Alex Braslavsky. Though the show itself is for any audience\, our block of tickets are for people from our community are who are actually single and want to experience the interactive dating-themed show together! \nWe have 12 subsidized tickets for $12 (from $18). Tribe 12’s matchmaker Danielle will host an optional bar meet up nearby (location TBD) at 6pm or meet her in front of the venue at 7:15pm for the 7:30pm show. \n————— \nInterested in seeing Fringe shows with Jewish themes? See Bluebird: A Cabaret with our queer Tribe on September 22nd or check out this list of other Jewish shows: The Meaning of Where I’m From\, Grief: A Love Story\, My Uncle Sam\, Shterna and the Lost Voice: A New Yiddish Folktale. \nInterested in becoming a Tribe 12 Fellow and building cool things like Alex? Applications for our next cohort open on September 16th! Visit tribe12.org/fellowship for details.
URL:https://www.tribester.com/event/tribe-12-goes-to-fringe-festival-singles-edition/
LOCATION:The Deep End Studios\, 1313 South 33rd Street\, Philadelphia\, PA\, 19146\, United States
CATEGORIES:Art,Festival,Social
ATTACH;FMTTYPE=image/webp:https://www.tribester.com/wp-content/uploads/2024/08/Tribe-12-Goes-to-Fringe-Festival-Singles-Edition.webp
ORGANIZER;CN="Tribe 12":MAILTO:yo@tribe12.org
GEO:39.9394824;-75.1971685
X-APPLE-STRUCTURED-LOCATION;VALUE=URI;X-ADDRESS=The Deep End Studios 1313 South 33rd Street Philadelphia PA 19146 United States;X-APPLE-RADIUS=500;X-TITLE=1313 South 33rd Street:geo:-75.1971685,39.9394824
END:VEVENT
BEGIN:VEVENT
DTSTART;TZID=America/New_York:20240922T180000
DTEND;TZID=America/New_York:20240922T200000
DTSTAMP:20260424T154717
CREATED:20240816T125651Z
LAST-MODIFIED:20240816T125651Z
UID:10014254-1727028000-1727035200@www.tribester.com
SUMMARY:Tribe 12 Goes to Fringe Festival: Queer Edition
DESCRIPTION:Fringe is the quintessentially Philly fall festival of performance\, art and expression and we’re proud that several of our Tribe 12 Fellowship alumni are putting on shows! \nWe invite our LGBTQIA+ community to come see Bluebird: A Cabaret\, a musical one-woman show about being a queer Jewish woman in Philadelphia. The show is performed and produced by Aimee Yaffa Goldstein (2021 Fellow) and produced by Doriane Feinstein (2019 Fellow) with an appearance by Liat Kovnator (2019 Fellow)! \nWe have 12 subsidized tickets for $15 (from $25). This event is specifically for people who identify as queer / LGBTQIA+. Molly will host an optional bar meet up at Tattooed Mom’s (530 South Street – 9 minute walk) at 5:30pm or meet her in front of the theater at 6:45pm for the 7pm show. \n————— \nInterested in seeing Fringe shows with Jewish themes? Check out this list we made! The Meaning of Where I’m From\, Grief: A Love Story\, My Uncle Sam\, Shterna and the Lost Voice: A New Yiddish Folktale. \nInterested in becoming a Tribe 12 Fellow and building cool things like Aimee\, Dori and Liat? Applications for our next cohort open on September 16th! Visit tribe12.org/fellowship for details.
URL:https://www.tribester.com/event/tribe-12-goes-to-fringe-festival-queer-edition/
LOCATION:Mister John’s Music\, South 8th Street\, Philadelphia\, PA\, 19147\, United States
CATEGORIES:Art,Festival,LGBQT+,Social
ATTACH;FMTTYPE=image/webp:https://www.tribester.com/wp-content/uploads/2024/08/Tribe-12-Goes-to-Fringe-Festival-Queer-Edition.webp
ORGANIZER;CN="Tribe 12":MAILTO:yo@tribe12.org
GEO:39.9396628;-75.1557375
X-APPLE-STRUCTURED-LOCATION;VALUE=URI;X-ADDRESS=Mister John’s Music South 8th Street Philadelphia PA 19147 United States;X-APPLE-RADIUS=500;X-TITLE=South 8th Street:geo:-75.1557375,39.9396628
END:VEVENT
BEGIN:VEVENT
DTSTART;TZID=America/Los_Angeles:20240721T150000
DTEND;TZID=America/Los_Angeles:20240721T190000
DTSTAMP:20260424T154717
CREATED:20240610T120215Z
LAST-MODIFIED:20240622T165617Z
UID:10013462-1721574000-1721588400@www.tribester.com
SUMMARY:Silver Lake Jewish Festival 2024
DESCRIPTION:Fun for All Ages \nMusic:\nSurprise Guest Singer!\nDuvid Swirsky (Moshav) & Friends\nJSL Band\nLife No.9\nDJ Dan\n& More! \nFood Trucks Vendors:\nKosher Smoke BBQ\nFalafel Food Truck\nIce Cream Truck\nFruit Stand \nCultural Crafts:\nPickle Making\nHenna Artist\nJewish Art Vendors \nVendors:\nHamsha Club\nHamsha Kosher\nHebrew School Dropout\nMenschions\nShalom Clothing\n& More \nKids Zone:\nTouch a Truck\nInflatables\nPuppy Party\nPetting Zoo \nAdult Zone:\nTap Truck Mobile Bar\nOutdoor Bar Games\nJewish Comedy by Tehran Von Ghasri & Others \nRSVP REQUIRED: Get Your Tickets Today! \nPlease Note: \nThere will be security at the event!\nFor more info or to apply as a vendor\, go to silverlakefestival.com \nBring your family and friends for a day of music\, food\, crafts\, and fun at the 3rd Annual Silver Lake Jewish Summer Festival!
URL:https://www.tribester.com/event/silver-lake-jewish-festival-2024/
LOCATION:Sunset Triangle Plaza\, 3700 Sunset Boulevard\, Los Angeles\, CA\, 90026\, United States
CATEGORIES:Arts & Entertainment,Festival,Food & Drink Experience,Live Music,Social
ATTACH;FMTTYPE=image/jpeg:https://www.tribester.com/wp-content/uploads/2024/06/Silver-Lake-Jewish-Festival-2024.jpg
ORGANIZER;CN="Jewish Silver Lake":MAILTO:jewishsilverlake@gmail.com
GEO:34.0902885;-118.2781057
X-APPLE-STRUCTURED-LOCATION;VALUE=URI;X-ADDRESS=Sunset Triangle Plaza 3700 Sunset Boulevard Los Angeles CA 90026 United States;X-APPLE-RADIUS=500;X-TITLE=3700 Sunset Boulevard:geo:-118.2781057,34.0902885
END:VEVENT
BEGIN:VEVENT
DTSTART;TZID=America/New_York:20240627T150000
DTEND;TZID=America/New_York:20240630T140000
DTSTAMP:20260424T154717
CREATED:20240420T125311Z
LAST-MODIFIED:20240622T165908Z
UID:10012922-1719500400-1719756000@www.tribester.com
SUMMARY:SABABA MUSIC FESTIVAL
DESCRIPTION:Welcome to the year of Infinite! Sababa Fest year 8!\nJoin us on this magical journey of self-expression\, great music\, community and beautiful friends.\nSababa Music Festival is a 4 day Shabbat Experience & Music Festival happening June 27-30 in Hammonton\, NJ. We will be taking over a beautiful campground deep in the woods only 2.15 hours from NYC and 1.15 hours from Philly. On top of the epic live music\, we have Glatt Kosher catered meals included in your ticket\, and a jam packed program with classes\, interactive workshops and activities all weekend. Gather with 1\,000+ other Young Professionals for the happiest Shabbos of the year!\nLineup:\nMatisyahu\, Zusha\, LEVYTICUS\, Aryeh Shalom\, Jon Erlbaum\, Top Cats\, MUN\, Kosha Dillz\, Souls On Fire\, FreeJ\, Rivky Borenstein\, Riki Rose\, Yoni Rock\, Moish\, Chaya Glaser\, Izzy Gilden\, Zalmy Schreiber\, Akiva Daitchman\, Shira Neshama\, Josh Gerhardt\, Rivky Susskind\, Gabe Saks\, Ben & Mimi\, Chana Esther Herzog\, David Pearl Trio\, Natan Harari and Havdalah w/ Binyomin Lerner\nOur amazing partners and sponsors:\nThe Chevra\nTC Logistics\nBoston Chaverim\nRejews\nElectrex\nTubi60\nSAMi\nHedgehog Entertainment\nSababa Entertainment
URL:https://www.tribester.com/event/sababa-music-festival/
LOCATION:TBD
CATEGORIES:Arts & Entertainment,Festival,Live Music,Social
ATTACH;FMTTYPE=image/jpeg:https://www.tribester.com/wp-content/uploads/2024/04/SABABA-MUSIC-FESTIVAL.jpg
ORGANIZER;CN="The Chevra":MAILTO:info@chevra.net
END:VEVENT
BEGIN:VEVENT
DTSTART;TZID=America/New_York:20240526T150000
DTEND;TZID=America/New_York:20240526T230000
DTSTAMP:20260424T154717
CREATED:20240524T143052Z
LAST-MODIFIED:20240622T165828Z
UID:10013177-1716735600-1716764400@www.tribester.com
SUMMARY:Beit Juhuro Annual Lag Ba'omer Celebration!
DESCRIPTION:Come celebrate Lag Ba’omer with Beit Juhuro!\nSunday May 26\, 2024.\nKids Party – 3:00 PM – 6:00 PM Balloons! Face Painting! Magic Show!\nAdult Party- 6:00 PM Shashlik\, Party and Dancing!\nMake sure to be here so you won’t miss out on the action!
URL:https://www.tribester.com/event/beit-juhuro-annual-lag-baomer-celebration/
LOCATION:Beit Juhuro\, 2320 Avenue U\, NY\, 11229\, United States
CATEGORIES:Festival,Holiday,Lag B'Omer,Party or Happy Hour,Social
ATTACH;FMTTYPE=image/jpeg:https://www.tribester.com/wp-content/uploads/2024/05/Beit-Juhuro-Annual-Lag-Baomer-Celebration.jpg
ORGANIZER;CN="Beit Juhuro":MAILTO:gorskywednesday@gmail.com
GEO:40.5996621;-73.9477392
X-APPLE-STRUCTURED-LOCATION;VALUE=URI;X-ADDRESS=Beit Juhuro 2320 Avenue U NY 11229 United States;X-APPLE-RADIUS=500;X-TITLE=2320 Avenue U:geo:-73.9477392,40.5996621
END:VEVENT
BEGIN:VEVENT
DTSTART;TZID=America/New_York:20240510T190000
DTEND;TZID=America/New_York:20240510T220000
DTSTAMP:20260424T154717
CREATED:20240414T113818Z
LAST-MODIFIED:20240622T170323Z
UID:10012879-1715367600-1715378400@www.tribester.com
SUMMARY:Shabbat De Mayo Fiesta: A Shabbat Celebration for Young Jewish Professionals!
DESCRIPTION:????Join us for a Mexican-inspired Shabbat fiesta with your YJP community! ????????️Enjoy delicious food\, great energy\, and a vibrant community. Whether you’re a seasoned Shabbat-goer or new to the experience\, all young Jewish professionals are welcome! \n????Date: May 10th\n????Time: 7 PM\n????Location: YJP Atlanta  \nLIMITED SEATS\nRSVP now and let’s make this Shabbat De Mayo fiesta unforgettable!
URL:https://www.tribester.com/event/shabbat-de-mayo-fiesta-a-shabbat-celebration-for-young-jewish-professionals/
LOCATION:YJP Intown\, Atlanta\, 730 Ponce De Leon Place Northeast\, Atlanta\, GA\, 30306\, United States
CATEGORIES:Festival,Shabbat,Social
ATTACH;FMTTYPE=image/jpeg:https://www.tribester.com/wp-content/uploads/2024/04/Shabbat-De-Mayo-Fiesta-A-Shabbat-Celebration-for-Young-Jewish-Professionals.jpg
ORGANIZER;CN="YJP Intown%2C Atlanta":MAILTO:info@yjpintown.org
GEO:33.7745018;-84.3642002
X-APPLE-STRUCTURED-LOCATION;VALUE=URI;X-ADDRESS=YJP Intown Atlanta 730 Ponce De Leon Place Northeast Atlanta GA 30306 United States;X-APPLE-RADIUS=500;X-TITLE=730 Ponce De Leon Place Northeast:geo:-84.3642002,33.7745018
END:VEVENT
BEGIN:VEVENT
DTSTART;TZID=America/New_York:20240502T220000
DTEND;TZID=America/New_York:20240503T010000
DTSTAMP:20260424T154717
CREATED:20240410T015828Z
LAST-MODIFIED:20240622T170332Z
UID:10012836-1714687200-1714698000@www.tribester.com
SUMMARY:Mimouna: A Moroccan Jewish Celebration
DESCRIPTION:Join the JCCSF and JIMENA to celebrate the beginning of Spring and the end of Passover at our Moroccan Mimouna celebration. Enjoy Moroccan sweets\, live music and dancing at this festive event embodying heritage\, tradition\, and community. All are welcome! \nMimouna is a traditional festival celebrated by Moroccan Jews the day after Passover\, marking the return to eating chametz (leavened foods). Families open their homes to neighbors and friends and fill their kitchen tables with an abundance of delicious sweets symbolizing fertility\, joy\, success\, health and prosperity. Mimouna is the beginning of the spring season and a time to celebrate friendship\, community\, coexistence\, luck and good fortune. \nRegistration\nEarly Bird: $26 (through May 1)\nGeneral Admission: $36 \nEvent Partner \nJIMENA
URL:https://www.tribester.com/event/mimouna-a-moroccan-jewish-celebration/
LOCATION:Jewish Community Center of San Francisco\, 3200 California Street\, San Francisco\, CA\, 94118\, United States
CATEGORIES:Festival,Holiday,Passover,Social
ATTACH;FMTTYPE=image/jpeg:https://www.tribester.com/wp-content/uploads/2024/04/Mimouna-A-Moroccan-Jewish-Celebration.jpg
ORGANIZER;CN="Jewish Community Center of San Francisco":MAILTO:support@jccsf.org
GEO:37.7873744;-122.4473988
X-APPLE-STRUCTURED-LOCATION;VALUE=URI;X-ADDRESS=Jewish Community Center of San Francisco 3200 California Street San Francisco CA 94118 United States;X-APPLE-RADIUS=500;X-TITLE=3200 California Street:geo:-122.4473988,37.7873744
END:VEVENT
BEGIN:VEVENT
DTSTART;TZID=Africa/Abidjan:20240407T190000
DTEND;TZID=Africa/Abidjan:20240408T000000
DTSTAMP:20260424T154717
CREATED:20240322T150527Z
LAST-MODIFIED:20240322T150527Z
UID:10012491-1712516400-1712534400@www.tribester.com
SUMMARY:Spring Marketplace Festival
DESCRIPTION:An afternoon of artistic workshops!
URL:https://www.tribester.com/event/spring-marketplace-festival/
LOCATION:Shanna and Bryan Glazer JCC\, 522 North Howard Avenue\, Tampa\, FL\, 33606\, United States
CATEGORIES:Art,Festival,Social
ATTACH;FMTTYPE=image/jpeg:https://www.tribester.com/wp-content/uploads/2024/03/Spring-Marketplace-Festival.jpg
ORGANIZER;CN="Jewish Tampa":MAILTO:webmaster@jewishtampa.com
GEO:27.9489637;-82.4839052
X-APPLE-STRUCTURED-LOCATION;VALUE=URI;X-ADDRESS=Shanna and Bryan Glazer JCC 522 North Howard Avenue Tampa FL 33606 United States;X-APPLE-RADIUS=500;X-TITLE=522 North Howard Avenue:geo:-82.4839052,27.9489637
END:VEVENT
BEGIN:VEVENT
DTSTART;TZID=America/Los_Angeles:20240324T130000
DTEND;TZID=America/Los_Angeles:20240324T150000
DTSTAMP:20260424T154717
CREATED:20240323T132525Z
LAST-MODIFIED:20240323T132525Z
UID:10012588-1711285200-1711292400@www.tribester.com
SUMMARY:Silver Lake Family Purim Festival!
DESCRIPTION:Dress up contest • Petting Zoo • Pony Ride • DJ AVI • Bounce house • Hamantschen Pizza! \nSunday 1PM \nSunset Triangle Plaza\n3700 Sunset Blvd\, Los Angeles\, CA 90026
URL:https://www.tribester.com/event/silver-lake-family-purim-festival/
LOCATION:Sunset Triangle Plaza\, 3700 Sunset Boulevard\, Los Angeles\, CA\, 90026\, United States
CATEGORIES:Festival,Holiday,Purim,Social
ATTACH;FMTTYPE=image/jpeg:https://www.tribester.com/wp-content/uploads/2024/03/Silver-Lake-Family-Purim-Festival-1.jpeg
ORGANIZER;CN="Jewish Silver Lake":MAILTO:jewishsilverlake@gmail.com
GEO:34.0902885;-118.2781057
X-APPLE-STRUCTURED-LOCATION;VALUE=URI;X-ADDRESS=Sunset Triangle Plaza 3700 Sunset Boulevard Los Angeles CA 90026 United States;X-APPLE-RADIUS=500;X-TITLE=3700 Sunset Boulevard:geo:-118.2781057,34.0902885
END:VEVENT
END:VCALENDAR